
BEGIN:VCALENDAR
VERSION:2.0
PRODID:-//MarkedsPartner AS//Umbraco CMS//NO
TIMEZONE-ID:Europe/Oslo
X-WR-TIMEZONE:Europe/Oslo


BEGIN:VEVENT
UID:5fc2af4f2a484e9eb73c0f2108a833c2
URL:https://umbraco.naeringsforeningen.no/moeter/arkiv/treffpunkt-ryfylke-220621/
ORGANIZER;CN=Ola Normann:MAILTO:ola.normann@markedspartner.no
DTSTAMP:20210622T160000Z
DTSTART:20210622T160000Z
DTEND:20210622T190000Z
LAST-MODIFIED:20221031T122118Z
SUMMARY:Treffpunkt Ryfylke: Sommerkveld i Rosehagen
DESCRIPTION:Endelig kan vi treffes igjen! Vi inviterer derfor til et annerledes Treffpunkt Ryfylke – en sommerkveld i Villa Rosehagen på Jørpeland. Først får vi en kort omvisning på Stålverksområdet, der det skjer mye spennende for tiden. Deretter blir det middag og en god drøs – noe som er lenge siden sist. Velkommen!
X-ALT-DESC:Endelig kan vi treffes igjen! Vi inviterer derfor til et annerledes Treffpunkt Ryfylke – en sommerkveld i Villa Rosehagen p&#229; J&#248;rpeland. F&#248;rst f&#229;r vi en kort omvisning p&#229; St&#229;lverksomr&#229;det, der det skjer mye spennende for tiden. Deretter blir det middag og en god dr&#248;s – noe som er lenge siden sist. Velkommen!
LOCATION:Villa Rosehagen, J&#248;rpeland
END:VEVENT


END:VCALENDAR



