
BEGIN:VCALENDAR
VERSION:2.0
PRODID:-//MarkedsPartner AS//Umbraco CMS//NO
TIMEZONE-ID:Europe/Oslo
X-WR-TIMEZONE:Europe/Oslo


BEGIN:VEVENT
UID:6d6f463fa454435da7fea7f807b2e113
URL:https://umbraco.naeringsforeningen.no/moeter/arkiv/treffpunkt-oeyane_280524/
ORGANIZER;CN=Ola Normann:MAILTO:ola.normann@markedspartner.no
DTSTAMP:20240528T160000Z
DTSTART:20240528T160000Z
DTEND:20240528T190000Z
LAST-MODIFIED:20240529T113428Z
SUMMARY:Treffpunkt Øyane med middag: Vi besøker Utstein kloster
DESCRIPTION:Med sitt historiske utspring har det vært drevet matproduskjon i flere tusen år på Utstein, og er nå et av Rogalands viktigste reiselivsdestinasjoner. Treffpunkt Øyane setter fokus på blå grønne næringer og utviklingen av reiselivet på Øyane. Slakteren Stian Espedal kommer for å vise oss hvordan århundrer med mattradisjoner er grunnlaget for hvordan vi utnytter det kvalitetsrike klosterlammet, før vi setter oss til bords og nyter smaken.
X-ALT-DESC:Med sitt historiske utspring har det v&#230;rt drevet matproduskjon i flere tusen &#229;r p&#229; Utstein, og er n&#229; et av Rogalands viktigste reiselivsdestinasjoner. Treffpunkt &#216;yane setter fokus p&#229; bl&#229; gr&#248;nne n&#230;ringer og utviklingen av reiselivet p&#229; &#216;yane. Slakteren Stian Espedal kommer for &#229; vise oss hvordan &#229;rhundrer med mattradisjoner er grunnlaget for hvordan vi utnytter det kvalitetsrike klosterlammet, f&#248;r vi setter oss til bords og nyter smaken.
LOCATION:Utstein Kloster
END:VEVENT


END:VCALENDAR



