
BEGIN:VCALENDAR
VERSION:2.0
PRODID:-//MarkedsPartner AS//Umbraco CMS//NO
TIMEZONE-ID:Europe/Oslo
X-WR-TIMEZONE:Europe/Oslo


BEGIN:VEVENT
UID:1afed90683924ac39776a7ccec93763f
URL:https://umbraco.naeringsforeningen.no/moeter/arkiv/treffpunkt-oeyane_2020/
ORGANIZER;CN=Ola Normann:MAILTO:ola.normann@markedspartner.no
DTSTAMP:20201102T160000Z
DTSTART:20201102T160000Z
DTEND:20201102T190000Z
LAST-MODIFIED:20221031T114431Z
SUMMARY:Treffpunkt Øyane: Utvikling på sjø og land
DESCRIPTION:Velkommen til treffpunkt på øyane, hvor vi setter næringsutvikling på Rennesøy og Finnøy på agendaen. Denne ettermiddagen får du kloke ord om utviklingen av havbruksteknologi og næringsarealer på sjø og land.
X-ALT-DESC:Velkommen til treffpunkt p&#229; &#248;yane, hvor vi setter n&#230;ringsutvikling p&#229; Rennes&#248;y og Finn&#248;y p&#229; agendaen. Denne ettermiddagen f&#229;r du kloke ord om utviklingen av havbruksteknologi og n&#230;ringsarealer p&#229; sj&#248; og land.
LOCATION:Innbyggertorget p&#229; Judaberg, Judabergvegen 6, 4160 Finn&#248;y.
END:VEVENT


END:VCALENDAR



