
BEGIN:VCALENDAR
VERSION:2.0
PRODID:-//MarkedsPartner AS//Umbraco CMS//NO
TIMEZONE-ID:Europe/Oslo
X-WR-TIMEZONE:Europe/Oslo


BEGIN:VEVENT
UID:4b0625865b8345228ac69b7ef6c29820
URL:https://umbraco.naeringsforeningen.no/moeter/arkiv/treffpunkt-oeyane_11523/
ORGANIZER;CN=Ola Normann:MAILTO:ola.normann@markedspartner.no
DTSTAMP:20230511T160000Z
DTSTART:20230511T160000Z
DTEND:20230511T210000Z
LAST-MODIFIED:20230512T021357Z
SUMMARY:Festkveld med foredrag av Arne Brimi og Ryfylkekokken
DESCRIPTION:Velkommen til treffpunkt på Øyane, hvor vi setter næringsutvikling på Rennesøy og Finnøy på agendaen. Vi starter en stemningsfull kveld på det nyåpnede Fjordbris før vi får besøk av selveste Arne Brimi og Ryfylkekokken Frode Selvaag.
X-ALT-DESC:Velkommen til treffpunkt p&#229; &#216;yane, hvor vi setter n&#230;ringsutvikling p&#229; Rennes&#248;y og Finn&#248;y p&#229; agendaen. Vi starter en stemningsfull kveld p&#229; det ny&#229;pnede Fjordbris f&#248;r vi f&#229;r bes&#248;k av selveste Arne Brimi og Ryfylkekokken Frode Selvaag.
LOCATION:Fjordbris Hotell, &#216;sthusvikveien 609, 4150 Rennes&#248;y
END:VEVENT


END:VCALENDAR



