
BEGIN:VCALENDAR
VERSION:2.0
PRODID:-//MarkedsPartner AS//Umbraco CMS//NO
TIMEZONE-ID:Europe/Oslo
X-WR-TIMEZONE:Europe/Oslo


BEGIN:VEVENT
UID:c5b72565a2a24dcabbd9e361339827a7
URL:https://umbraco.naeringsforeningen.no/moeter/arkiv/treffpunkt-med-naeringssivet-i-lund_25012023/
ORGANIZER;CN=Ola Normann:MAILTO:ola.normann@markedspartner.no
DTSTAMP:20230125T173000Z
DTSTART:20230125T173000Z
DTEND:20230125T194500Z
LAST-MODIFIED:20230126T135613Z
SUMMARY:Treff for næringslivet i Lund
DESCRIPTION:Velkommen til treff på Lundetun (vis à vis Cecilies konditori) på Moi. Vi lover deg gode samtaler, faglige presentasjoner og god stemning. Vi diskuterer blant annet temaer som bærekraft og strømutfordringene. I tillegg får vi spennende bedriftspresentasjoner. Dalane Utdanningssenter kommer også.
X-ALT-DESC:Velkommen til treff p&#229; Lundetun (vis &#224; vis Cecilies konditori) p&#229; Moi. Vi lover deg gode samtaler, faglige presentasjoner og god stemning. Vi diskuterer blant annet temaer som b&#230;rekraft og str&#248;mutfordringene. I tillegg f&#229;r vi spennende bedriftspresentasjoner. Dalane Utdanningssenter kommer ogs&#229;.
LOCATION:Lundetun, Moi
END:VEVENT


END:VCALENDAR



