
BEGIN:VCALENDAR
VERSION:2.0
PRODID:-//MarkedsPartner AS//Umbraco CMS//NO
TIMEZONE-ID:Europe/Oslo
X-WR-TIMEZONE:Europe/Oslo


BEGIN:VEVENT
UID:5b11a670088a43a88b67b7d3fcad1114
URL:https://umbraco.naeringsforeningen.no/moeter/arkiv/treffpunkt-jaeren_teknologi_nov2021/
ORGANIZER;CN=Ola Normann:MAILTO:ola.normann@markedspartner.no
DTSTAMP:20211117T163000Z
DTSTART:20211117T163000Z
DTEND:20211117T203000Z
LAST-MODIFIED:20221031T123039Z
SUMMARY:Treffpunkt Jæren: Teknologinytt og kapital
DESCRIPTION:Teknologimulighetene vokser på Jæren! Hvem er de? Hva har de utviklet? Og hvordan har de hentet kapital for vekst? Bli med på nettverkskveld og lær hvordan du bør jobbe ut i markedet for å oppnå vekst.
X-ALT-DESC:Teknologimulighetene vokser p&#229; J&#230;ren! Hvem er de? Hva har de utviklet? Og hvordan har de hentet kapital for vekst? Bli med p&#229; nettverkskveld og l&#230;r hvordan du b&#248;r jobbe ut i markedet for &#229; oppn&#229; vekst.
LOCATION:Hotell J&#230;ren, Solh&#248;gda 3, 4340 Bryne
END:VEVENT


END:VCALENDAR



