
BEGIN:VCALENDAR
VERSION:2.0
PRODID:-//MarkedsPartner AS//Umbraco CMS//NO
TIMEZONE-ID:Europe/Oslo
X-WR-TIMEZONE:Europe/Oslo


BEGIN:VEVENT
UID:dda8ff326ac14721a905458b8b076851
URL:https://umbraco.naeringsforeningen.no/moeter/arkiv/treffpunkt-jaeren_digital_vaar_2021/
ORGANIZER;CN=Ola Normann:MAILTO:ola.normann@markedspartner.no
DTSTAMP:20210317T120000Z
DTSTART:20210317T120000Z
DTEND:20210317T131500Z
LAST-MODIFIED:20221031T120818Z
SUMMARY:Lær av vinnerbedrifter på Jæren!
DESCRIPTION:DIGITALKONFERANSE: Hvordan omstille seg til et nytt marked? For å være konkurransedyktig fremover må vi gripe de nye mulighetene. Kom på digitalkonferanse om Jæren, og lær av de beste til å vinne nye markeder.
X-ALT-DESC:DIGITALKONFERANSE: Hvordan omstille seg til et nytt marked? For &#229; v&#230;re konkurransedyktig fremover m&#229; vi gripe de nye mulighetene. Kom p&#229; digitalkonferanse om J&#230;ren, og l&#230;r av de beste til &#229; vinne nye markeder.
LOCATION:Online
END:VEVENT


END:VCALENDAR



