
BEGIN:VCALENDAR
VERSION:2.0
PRODID:-//MarkedsPartner AS//Umbraco CMS//NO
TIMEZONE-ID:Europe/Oslo
X-WR-TIMEZONE:Europe/Oslo


BEGIN:VEVENT
UID:b9ccbe0956d045478b56769f68984817
URL:https://umbraco.naeringsforeningen.no/moeter/arkiv/treffpunkt-jaeren_291122/
ORGANIZER;CN=Ola Normann:MAILTO:ola.normann@markedspartner.no
DTSTAMP:20221129T173000Z
DTSTART:20221129T173000Z
DTEND:20221129T210000Z
LAST-MODIFIED:20221130T075417Z
SUMMARY:Treffpunkt Jæren: Førjulstreff i Hvelvet
DESCRIPTION:Kaizers-stjernen kommer hjem til Bryne for å fortelle om den lange veien mot gjenforening og hva som venter de neste årene. Blir vi å se han med gitaren?
X-ALT-DESC:Kaizers-stjernen kommer hjem til Bryne for &#229; fortelle om den lange veien mot gjenforening og hva som venter de neste &#229;rene. Blir vi &#229; se han med gitaren?
LOCATION:Hvelvet - Kulturbanken, Meierigata 3, 4340 Bryne
END:VEVENT


END:VCALENDAR



