
BEGIN:VCALENDAR
VERSION:2.0
PRODID:-//MarkedsPartner AS//Umbraco CMS//NO
TIMEZONE-ID:Europe/Oslo
X-WR-TIMEZONE:Europe/Oslo


BEGIN:VEVENT
UID:09c9485d703a470195b31509864d44f7
URL:https://umbraco.naeringsforeningen.no/moeter/arkiv/treffpunkt-jaeren_260923/
ORGANIZER;CN=Ola Normann:MAILTO:ola.normann@markedspartner.no
DTSTAMP:20230926T153000Z
DTSTART:20230926T153000Z
DTEND:20230926T183000Z
LAST-MODIFIED:20230927T084111Z
SUMMARY:Treffpunkt Jæren: Alternative energikilder
DESCRIPTION:Lær av Kviamarka Næringspark! Vi får konkrete eksempler på energieffektivisering, reduksjon av utslipp og utnyttelse av ressurser. Tine meieriet på Kviamarka i Hå kommune produserer ca. 46 000 tonn ferdigvarer i året, som fører til et høyt CO2 utslipp og et høyt energiforbruk. På treffpunktet får du høre hvordan meieriet har sørget for at spillvarmen og utslippene har gått nærmiljøet til gode.
X-ALT-DESC:L&#230;r av Kviamarka N&#230;ringspark! Vi f&#229;r konkrete eksempler p&#229; energieffektivisering, reduksjon av utslipp og utnyttelse av ressurser. Tine meieriet p&#229; Kviamarka i H&#229; kommune produserer ca. 46 000 tonn ferdigvarer i &#229;ret, som f&#248;rer til et h&#248;yt CO2 utslipp og et h&#248;yt energiforbruk. P&#229; treffpunktet f&#229;r du h&#248;re hvordan meieriet har s&#248;rget for at spillvarmen og utslippene har g&#229;tt n&#230;rmilj&#248;et til gode.
LOCATION:Tine meieri J&#230;ren, Kviamarka  
END:VEVENT


END:VCALENDAR



