
BEGIN:VCALENDAR
VERSION:2.0
PRODID:-//MarkedsPartner AS//Umbraco CMS//NO
TIMEZONE-ID:Europe/Oslo
X-WR-TIMEZONE:Europe/Oslo


BEGIN:VEVENT
UID:230e32e7da68467eb36e32816c55d359
URL:https://umbraco.naeringsforeningen.no/moeter/arkiv/treffpunkt-jaeren_260423/
ORGANIZER;CN=Ola Normann:MAILTO:ola.normann@markedspartner.no
DTSTAMP:20230426T153000Z
DTSTART:20230426T153000Z
DTEND:20230426T190000Z
LAST-MODIFIED:20230427T080950Z
SUMMARY:Treffpunkt Jæren: Den Jærske gründerånden
DESCRIPTION:Sitter du inne med ett par gode ideer, men sliter med å ta de videre? Treffpunkt Jæren vil vise deg hvordan du kommer deg fra garasjen til kommersialisering, eller hvordan du går fra å være levebrødsgründer til vekstgründer.
X-ALT-DESC:Sitter du inne med ett par gode ideer, men sliter med &#229; ta de videre? Treffpunkt J&#230;ren vil vise deg hvordan du kommer deg fra garasjen til kommersialisering, eller hvordan du g&#229;r fra &#229; v&#230;re levebr&#248;dsgr&#252;nder til vekstgr&#252;nder.
LOCATION:Brix Brygghus, Storgata 27A, 4340 Bryne
END:VEVENT


END:VCALENDAR



