
BEGIN:VCALENDAR
VERSION:2.0
PRODID:-//MarkedsPartner AS//Umbraco CMS//NO
TIMEZONE-ID:Europe/Oslo
X-WR-TIMEZONE:Europe/Oslo


BEGIN:VEVENT
UID:8fe67360765b47818cccab345d864a57
URL:https://umbraco.naeringsforeningen.no/moeter/arkiv/treffpunkt-jaeren_211123/
ORGANIZER;CN=Ola Normann:MAILTO:ola.normann@markedspartner.no
DTSTAMP:20231121T173000Z
DTSTART:20231121T173000Z
DTEND:20231121T210000Z
LAST-MODIFIED:20231122T080628Z
SUMMARY:Treffpunkt Jæren: Førjulstreff i Hvelvet
DESCRIPTION:Vi gjentar fjorårets suksess og innvier adventstiden med førjulstreff i Hvelvet. Stjernekamp-aktuelle Mari Eriksen Bella vil innvie kvelden med å fortelle sin historie. Vi vil og få høre hvilke faktorer som gjør Jæren unik gjennom bidragsyterne bak Jæren som destinasjonssted.
X-ALT-DESC:Vi gjentar fjor&#229;rets suksess og innvier adventstiden med f&#248;rjulstreff i Hvelvet. Stjernekamp-aktuelle Mari Eriksen Bella vil innvie kvelden med &#229; fortelle sin historie. Vi vil og f&#229; h&#248;re hvilke faktorer som gj&#248;r J&#230;ren unik gjennom bidragsyterne bak J&#230;ren som destinasjonssted.
LOCATION:Hvelvet, Kulturbanken Bryne
END:VEVENT


END:VCALENDAR



