
BEGIN:VCALENDAR
VERSION:2.0
PRODID:-//MarkedsPartner AS//Umbraco CMS//NO
TIMEZONE-ID:Europe/Oslo
X-WR-TIMEZONE:Europe/Oslo


BEGIN:VEVENT
UID:f0ec11c97d02423eb6cf77f254fe87d4
URL:https://umbraco.naeringsforeningen.no/moeter/arkiv/treffpunkt-jaeren_190520/
ORGANIZER;CN=Ola Normann:MAILTO:ola.normann@markedspartner.no
DTSTAMP:20200519T153000Z
DTSTART:20200519T153000Z
DTEND:20200519T190000Z
LAST-MODIFIED:20221031T121042Z
SUMMARY:Treffpunkt Jæren: Kalberg Valley
DESCRIPTION:Det anslås at satsningen på datasenter og strømbase på Jæren kan gi opp til 10.000 nye arbeidsplasser. Er dette en drøm eller en realitet?
X-ALT-DESC:Det ansl&#229;s at satsningen p&#229; datasenter og str&#248;mbase p&#229; J&#230;ren kan gi opp til 10.000 nye arbeidsplasser. Er dette en dr&#248;m eller en realitet?
LOCATION:TBA
END:VEVENT


END:VCALENDAR



