
BEGIN:VCALENDAR
VERSION:2.0
PRODID:-//MarkedsPartner AS//Umbraco CMS//NO
TIMEZONE-ID:Europe/Oslo
X-WR-TIMEZONE:Europe/Oslo


BEGIN:VEVENT
UID:c30e7c04d1f94128b329b53a2df330d5
URL:https://umbraco.naeringsforeningen.no/moeter/arkiv/treffpunkt-jaeren_080223/
ORGANIZER;CN=Ola Normann:MAILTO:ola.normann@markedspartner.no
DTSTAMP:20230208T163000Z
DTSTART:20230208T163000Z
DTEND:20230208T200000Z
LAST-MODIFIED:20230213T073517Z
SUMMARY:Jærbørsen 2023
DESCRIPTION:På jærbørsen får du servert de store kommende prosjektene innen bygg og anlegg på Jæren. Vi har invitert Jærkommunene til å fortelle om kommende prosjekter og hvilke rammeavtaler som skal inngås. Velkommen!
X-ALT-DESC:P&#229; j&#230;rb&#248;rsen f&#229;r du servert de store kommende prosjektene innen bygg og anlegg p&#229; J&#230;ren. Vi har invitert J&#230;rkommunene til &#229; fortelle om kommende prosjekter og hvilke rammeavtaler som skal inng&#229;s. Velkommen!
LOCATION:Storstova, Bryne
END:VEVENT


END:VCALENDAR



