
BEGIN:VCALENDAR
VERSION:2.0
PRODID:-//MarkedsPartner AS//Umbraco CMS//NO
TIMEZONE-ID:Europe/Oslo
X-WR-TIMEZONE:Europe/Oslo


BEGIN:VEVENT
UID:6ea7fbc64c8b4e36a02be0c55377256a
URL:https://umbraco.naeringsforeningen.no/moeter/arkiv/treffpunkt-jaeren_070922/
ORGANIZER;CN=Ola Normann:MAILTO:ola.normann@markedspartner.no
DTSTAMP:20220907T153000Z
DTSTART:20220907T153000Z
DTEND:20220907T183000Z
LAST-MODIFIED:20221031T121141Z
SUMMARY:Treffpunkt Jæren: Industrieventyret uten en plan
DESCRIPTION:Jæren har spilt en sentral rolle i utviklingen av Norsk Industri. Innovasjonskraften og oppfinnsomheten sørger for stadig nye etableringer. Men har vi plass til ny næring og industri?
X-ALT-DESC:J&#230;ren har spilt en sentral rolle i utviklingen av Norsk Industri. Innovasjonskraften og oppfinnsomheten s&#248;rger for stadig nye etableringer. Men har vi plass til ny n&#230;ring og industri?
LOCATION:H&#248;ghuset, Hetlandsgata 9, 4340 Bryne
END:VEVENT


END:VCALENDAR



