
BEGIN:VCALENDAR
VERSION:2.0
PRODID:-//MarkedsPartner AS//Umbraco CMS//NO
TIMEZONE-ID:Europe/Oslo
X-WR-TIMEZONE:Europe/Oslo


BEGIN:VEVENT
UID:037c2ee195ce48aeb9a559bf34a3d9a1
URL:https://umbraco.naeringsforeningen.no/moeter/arkiv/treffpunkt-jaeren_040225/
ORGANIZER;CN=Ola Normann:MAILTO:ola.normann@markedspartner.no
DTSTAMP:20250204T163000Z
DTSTART:20250204T163000Z
DTEND:20250204T200000Z
LAST-MODIFIED:20250207T070248Z
SUMMARY:Treffpunkt Jæren: Mer effektiv produksjon med KI
DESCRIPTION:Kunstig intelligens (KI) er i ferd med å endre måten vi jobber på, og potensialet for å øke effektiviteten i produksjon er enorm. Bli med oss for å oppdage hvordan disse ferdighetene kan forbedre beslutningene for å drive innovasjon i din bedrift.
X-ALT-DESC:Kunstig intelligens (KI) er i ferd med &#229; endre m&#229;ten vi jobber p&#229;, og potensialet for &#229; &#248;ke effektiviteten i produksjon er enorm. Bli med oss for &#229; oppdage hvordan disse ferdighetene kan forbedre beslutningene for &#229; drive innovasjon i din bedrift.
LOCATION:H&#248;ghuset 18. etasje
END:VEVENT


END:VCALENDAR



