
BEGIN:VCALENDAR
VERSION:2.0
PRODID:-//MarkedsPartner AS//Umbraco CMS//NO
TIMEZONE-ID:Europe/Oslo
X-WR-TIMEZONE:Europe/Oslo


BEGIN:VEVENT
UID:0690c6cbd346454a84e9e57e206db224
URL:https://umbraco.naeringsforeningen.no/moeter/arkiv/treffpunkt-jaeren-fortsetter-oljeeventyret/
ORGANIZER;CN=Ola Normann:MAILTO:ola.normann@markedspartner.no
DTSTAMP:20200310T163000Z
DTSTART:20200310T163000Z
DTEND:20200310T200000Z
LAST-MODIFIED:20221031T120118Z
SUMMARY:Treffpunkt Jæren: Oljeeventyret i endring og vekst
DESCRIPTION:Vår aller viktigste næring er i en transformasjon. Hvilke muligheter er tilgjengelig for Jærske bedrifter? Kom og hør hva Ståle Kyllingstad mener er løsningen.
X-ALT-DESC:V&#229;r aller viktigste n&#230;ring er i en transformasjon. Hvilke muligheter er tilgjengelig for J&#230;rske bedrifter? Kom og h&#248;r hva St&#229;le Kyllingstad mener er l&#248;sningen.
LOCATION:Forum J&#230;ren, 18 etg. 
END:VEVENT


END:VCALENDAR



