
BEGIN:VCALENDAR
VERSION:2.0
PRODID:-//MarkedsPartner AS//Umbraco CMS//NO
TIMEZONE-ID:Europe/Oslo
X-WR-TIMEZONE:Europe/Oslo


BEGIN:VEVENT
UID:704ca8f46ebd485eb11356905aa47565
URL:https://umbraco.naeringsforeningen.no/moeter/arkiv/treffpunkt-jaeren-291024/
ORGANIZER;CN=Ola Normann:MAILTO:ola.normann@markedspartner.no
DTSTAMP:20241029T163000Z
DTSTART:20241029T163000Z
DTEND:20241029T200000Z
LAST-MODIFIED:20241030T112515Z
SUMMARY:Treffpunkt Jæren: Hva vil vi med Jæren?
DESCRIPTION:På Jæren skjer det mye, men for å sikre fortsatt vekst og utvikling trenger vi innsikt og samarbeid på tvers av bransjer. Hva kan Næringsforeningen i Stavanger-regionen være for medlemsbedriftene på Jæren? Med representanter fra ulike bransjer deler vi erfaringer, utfordringer og ikke minst ideer for framtidig vekst. Dette er din mulighet til å bidra, lære og forme framtiden for Jæren!
X-ALT-DESC:P&#229; J&#230;ren skjer det mye, men for &#229; sikre fortsatt vekst og utvikling trenger vi innsikt og samarbeid p&#229; tvers av bransjer. Hva kan N&#230;ringsforeningen i Stavanger-regionen v&#230;re for medlemsbedriftene p&#229; J&#230;ren? Med representanter fra ulike bransjer deler vi erfaringer, utfordringer og ikke minst ideer for framtidig vekst. Dette er din mulighet til &#229; bidra, l&#230;re og forme framtiden for J&#230;ren!
LOCATION:H&#248;ghuset
END:VEVENT


END:VCALENDAR



