
BEGIN:VCALENDAR
VERSION:2.0
PRODID:-//MarkedsPartner AS//Umbraco CMS//NO
TIMEZONE-ID:Europe/Oslo
X-WR-TIMEZONE:Europe/Oslo


BEGIN:VEVENT
UID:7881901ef997484e989786c85be4207f
URL:https://umbraco.naeringsforeningen.no/moeter/arkiv/treffpunkt-jaeren-211124/
ORGANIZER;CN=Ola Normann:MAILTO:ola.normann@markedspartner.no
DTSTAMP:20241121T173000Z
DTSTART:20241121T173000Z
DTEND:20241121T210000Z
LAST-MODIFIED:20241122T113135Z
SUMMARY:Treffpunkt Jæren: Førjulstreff i Hvelvet
DESCRIPTION:Vi gjentar fjorårets suksess og innvier adventstiden med førjulstreff i Hvelvet. The Voice-vinner Inger Lise Hope vil innlede førjulstiden. Men før det retter vi blikket framover og spør utvalgte næringslivsaktører: Hvor er vi om 5–10 år?
X-ALT-DESC:Vi gjentar fjor&#229;rets suksess og innvier adventstiden med f&#248;rjulstreff i Hvelvet. The Voice-vinner Inger Lise Hope vil innlede f&#248;rjulstiden. Men f&#248;r det retter vi blikket framover og sp&#248;r utvalgte n&#230;ringslivsakt&#248;rer: Hvor er vi om 5–10 &#229;r?
LOCATION:Hvelvet
END:VEVENT


END:VCALENDAR



