
BEGIN:VCALENDAR
VERSION:2.0
PRODID:-//MarkedsPartner AS//Umbraco CMS//NO
TIMEZONE-ID:Europe/Oslo
X-WR-TIMEZONE:Europe/Oslo


BEGIN:VEVENT
UID:9b36f8b0a0fd4019a486dabac2f20efc
URL:https://umbraco.naeringsforeningen.no/moeter/arkiv/treffpunkt-gjesdal_221122/
ORGANIZER;CN=Ola Normann:MAILTO:ola.normann@markedspartner.no
DTSTAMP:20221122T070000Z
DTSTART:20221122T070000Z
DTEND:20221122T090000Z
LAST-MODIFIED:20221128T075022Z
SUMMARY:Treffpunkt Gjesdal – Det du må vite før krisevinteren!
DESCRIPTION:I en usikker tid trenger vi de rådene vi kan få. Vi inviterer derfor næringslivet i Gjesdal til å få innsikt i hvordan de best kan forberede seg på det som kommer.
X-ALT-DESC:I en usikker tid trenger vi de r&#229;dene vi kan f&#229;. Vi inviterer derfor n&#230;ringslivet i Gjesdal til &#229; f&#229; innsikt i hvordan de best kan forberede seg p&#229; det som kommer.
LOCATION:Norwegian Outlet &#197;lg&#229;rd
END:VEVENT


END:VCALENDAR



