
BEGIN:VCALENDAR
VERSION:2.0
PRODID:-//MarkedsPartner AS//Umbraco CMS//NO
TIMEZONE-ID:Europe/Oslo
X-WR-TIMEZONE:Europe/Oslo


BEGIN:VEVENT
UID:e2cef85062bd4e5fae154692cdc8cba1
URL:https://umbraco.naeringsforeningen.no/moeter/arkiv/treffpunkt-gjesdal/
ORGANIZER;CN=Ola Normann:MAILTO:ola.normann@markedspartner.no
DTSTAMP:20200506T060000Z
DTSTART:20200506T060000Z
DTEND:20200506T090000Z
LAST-MODIFIED:20221031T120900Z
SUMMARY:Treffpunkt Gjesdal
DESCRIPTION:Detaljer kommer
X-ALT-DESC:Detaljer kommer
LOCATION:
END:VEVENT


END:VCALENDAR



