
BEGIN:VCALENDAR
VERSION:2.0
PRODID:-//MarkedsPartner AS//Umbraco CMS//NO
TIMEZONE-ID:Europe/Oslo
X-WR-TIMEZONE:Europe/Oslo


BEGIN:VEVENT
UID:02f5d3d0a109416c942575bc3f62a48e
URL:https://umbraco.naeringsforeningen.no/moeter/arkiv/treffpunkt-dalaneloennsom-enoek-strategi_nov2022/
ORGANIZER;CN=Ola Normann:MAILTO:ola.normann@markedspartner.no
DTSTAMP:20221101T080000Z
DTSTART:20221101T080000Z
DTEND:20221101T101500Z
LAST-MODIFIED:20221107T130803Z
SUMMARY:TREFFPUNKT DALANE: Sparetiltakene for din bedrift
DESCRIPTION:Enten du er en liten virksomhet eller en stor industribedrift; ekspertene gir deg strømsparetiltakene som fungerer og som du må vite om før krisevinteren setter inn. Vi har med oss blant annet Aker Solutions, Dalane Energi, Takspesialisten, Sig. Halvorsen, MG Elektro og Kverneland Automasjon.
X-ALT-DESC:Enten du er en liten virksomhet eller en stor industribedrift; ekspertene gir deg str&#248;msparetiltakene som fungerer og som du m&#229; vite om f&#248;r krisevinteren setter inn. Vi har med oss blant annet Aker Solutions, Dalane Energi, Takspesialisten, Sig. Halvorsen, MG Elektro og Kverneland Automasjon.
LOCATION:Auditoriet p&#229; Grand Hotell Egersund
END:VEVENT


END:VCALENDAR



