
BEGIN:VCALENDAR
VERSION:2.0
PRODID:-//MarkedsPartner AS//Umbraco CMS//NO
TIMEZONE-ID:Europe/Oslo
X-WR-TIMEZONE:Europe/Oslo


BEGIN:VEVENT
UID:638116ccfc3144859b0679dc6ea20b05
URL:https://umbraco.naeringsforeningen.no/moeter/arkiv/treffpunkt-dalane_paneldebatt-031024/
ORGANIZER;CN=Ola Normann:MAILTO:ola.normann@markedspartner.no
DTSTAMP:20241003T160000Z
DTSTART:20241003T160000Z
DTEND:20241003T180000Z
LAST-MODIFIED:20241004T110617Z
SUMMARY:Treffpunkt Dalane: Paneldebatt med ordførerne i Dalane
DESCRIPTION:Hva har skjedd på dette året? Er det nye viktige saker på agendaen? Er det landet noen av de uløste, pågående sakene?
X-ALT-DESC:Hva har skjedd p&#229; dette &#229;ret? Er det nye viktige saker p&#229; agendaen? Er det landet noen av de ul&#248;ste, p&#229;g&#229;ende sakene?
LOCATION:Grand Hotell, Egersund.
END:VEVENT


END:VCALENDAR



