
BEGIN:VCALENDAR
VERSION:2.0
PRODID:-//MarkedsPartner AS//Umbraco CMS//NO
TIMEZONE-ID:Europe/Oslo
X-WR-TIMEZONE:Europe/Oslo


BEGIN:VEVENT
UID:f9b5569ccbd2466e89921a7a93605453
URL:https://umbraco.naeringsforeningen.no/moeter/arkiv/treffpunkt-dalane_hva-skjer-i-dalane_120421/
ORGANIZER;CN=Ola Normann:MAILTO:ola.normann@markedspartner.no
DTSTAMP:20210412T083000Z
DTSTART:20210412T083000Z
DTEND:20210412T100000Z
LAST-MODIFIED:20221031T121040Z
SUMMARY:Prosjekter og muligheter i Dalane-kommunene
DESCRIPTION:Mange store prosjekter i Dalane ligger og venter på å bli realisert og noen er allerede godt igang. Bli med på en spennende presentasjon og gjennomgang av disse.
X-ALT-DESC:Mange store prosjekter i Dalane ligger og venter p&#229; &#229; bli realisert og noen er allerede godt igang. Bli med p&#229; en spennende presentasjon og gjennomgang av disse.
LOCATION:Online
END:VEVENT


END:VCALENDAR



