
BEGIN:VCALENDAR
VERSION:2.0
PRODID:-//MarkedsPartner AS//Umbraco CMS//NO
TIMEZONE-ID:Europe/Oslo
X-WR-TIMEZONE:Europe/Oslo


BEGIN:VEVENT
UID:3b7b9a82a34f48a7a346c28d08e42d66
URL:https://umbraco.naeringsforeningen.no/moeter/arkiv/treffpunkt-dalane_bedriftsbesoek/
ORGANIZER;CN=Ola Normann:MAILTO:ola.normann@markedspartner.no
DTSTAMP:20220920T160000Z
DTSTART:20220920T160000Z
DTEND:20220920T200000Z
LAST-MODIFIED:20221031T121228Z
SUMMARY:Treffpunkt Dalane: Bedriftsbesøk hos Titania og Rekefjord Stone
DESCRIPTION:Dalane en stor og spennende bergverksregion! Kom og bli med på bedriftsbesøk hos Titania som står for 10% av verdens ilmenittproduksjon og en reserve på 400 millioner tonn og Rekefjord Stone et bergverk for produksjon av byggeråstoffer med to dagbrudd, der anortositt blir utvunnet. Vi får Guidet omvisning og presentasjon hos begge disse spennende og viktige bedriftene.
X-ALT-DESC:Dalane en stor og spennende bergverksregion! Kom og bli med p&#229; bedriftsbes&#248;k hos Titania som st&#229;r for 10% av verdens ilmenittproduksjon og en reserve p&#229; 400 millioner tonn og Rekefjord Stone et bergverk for produksjon av bygger&#229;stoffer med to dagbrudd, der anortositt blir utvunnet. Vi f&#229;r Guidet omvisning og presentasjon hos begge disse spennende og viktige bedriftene.
LOCATION:Rekefjord Stone og Titania
END:VEVENT


END:VCALENDAR



