
BEGIN:VCALENDAR
VERSION:2.0
PRODID:-//MarkedsPartner AS//Umbraco CMS//NO
TIMEZONE-ID:Europe/Oslo
X-WR-TIMEZONE:Europe/Oslo


BEGIN:VEVENT
UID:e3a4c724b7c842e88d8e03075b6998c4
URL:https://umbraco.naeringsforeningen.no/moeter/arkiv/treffpunkt-dalane_180620/
ORGANIZER;CN=Ola Normann:MAILTO:ola.normann@markedspartner.no
DTSTAMP:20200618T060000Z
DTSTART:20200618T060000Z
DTEND:20200618T080000Z
LAST-MODIFIED:20221031T121442Z
SUMMARY:Treffpunkt Dalane HVA NÅ?
DESCRIPTION:Koronapandemien: Hvordan treffer pandemien og den nye hverdagen oss i Dalane?
X-ALT-DESC:Koronapandemien: Hvordan treffer pandemien og den nye hverdagen oss i Dalane?
LOCATION:Grand Hotell Egersund
END:VEVENT


END:VCALENDAR



