
BEGIN:VCALENDAR
VERSION:2.0
PRODID:-//MarkedsPartner AS//Umbraco CMS//NO
TIMEZONE-ID:Europe/Oslo
X-WR-TIMEZONE:Europe/Oslo


BEGIN:VEVENT
UID:27f6bbda56144e5a8bd383e7d65ee691
URL:https://umbraco.naeringsforeningen.no/moeter/arkiv/treffpunkt-dalane_-offentlig-anskaffelse/
ORGANIZER;CN=Ola Normann:MAILTO:ola.normann@markedspartner.no
DTSTAMP:20200903T093000Z
DTSTART:20200903T093000Z
DTEND:20200903T130000Z
LAST-MODIFIED:20221031T113820Z
SUMMARY:Treffpunkt Dalane:  Offentlige anskaffelser
DESCRIPTION:Når du skal velge verktøy er det viktig å velge riktig. Vi inviterer til et nyttig Treffpunkt Dalane om dette. Her vil vi sammen se på hvordan vi kan utvikle en god praksis innen offentlig anskaffelse. Dialog mellom innkjøper og leverandør gir alltid det beste resultatet og du vil få «beste praksis» eksempler presentert denne dagen.
X-ALT-DESC:N&#229;r du skal velge verkt&#248;y er det viktig &#229; velge riktig. Vi inviterer til et nyttig Treffpunkt Dalane om dette. Her vil vi sammen se p&#229; hvordan vi kan utvikle en god praksis innen offentlig anskaffelse. Dialog mellom innkj&#248;per og leverand&#248;r gir alltid det beste resultatet og du vil f&#229; &#171;beste praksis&#187; eksempler presentert denne dagen.
LOCATION:Grand Hotell Egersund
END:VEVENT


END:VCALENDAR



