
BEGIN:VCALENDAR
VERSION:2.0
PRODID:-//MarkedsPartner AS//Umbraco CMS//NO
TIMEZONE-ID:Europe/Oslo
X-WR-TIMEZONE:Europe/Oslo


BEGIN:VEVENT
UID:c22ea74a8bbd4dd69c6251a7de76281f
URL:https://umbraco.naeringsforeningen.no/moeter/arkiv/treffpunkt-dalane-unge-ledere-vaar-fremtidige-ressurs_18032025/
ORGANIZER;CN=Ola Normann:MAILTO:ola.normann@markedspartner.no
DTSTAMP:20250318T070000Z
DTSTART:20250318T070000Z
DTEND:20250318T093000Z
LAST-MODIFIED:20250324T072108Z
SUMMARY:De unge i næringslivet – perspektiver og muligheter
DESCRIPTION:Hvorfor velger så mange unge i dag å takke nei til lederroller? Hvordan kan vi inspirere og motivere dem til å ta lederroller? Bli med på frokost på Grand Hotell og få en spennende innføring i «de unge og lederroller i næringslivet».
X-ALT-DESC:Hvorfor velger s&#229; mange unge i dag &#229; takke nei til lederroller? Hvordan kan vi inspirere og motivere dem til &#229; ta lederroller? Bli med p&#229; frokost p&#229; Grand Hotell og f&#229; en spennende innf&#248;ring i &#171;de unge og lederroller i n&#230;ringslivet&#187;.
LOCATION:Grand Hotell Egersund
END:VEVENT


END:VCALENDAR



