
BEGIN:VCALENDAR
VERSION:2.0
PRODID:-//MarkedsPartner AS//Umbraco CMS//NO
TIMEZONE-ID:Europe/Oslo
X-WR-TIMEZONE:Europe/Oslo


BEGIN:VEVENT
UID:1cfd2130fe124b0f936dd5202b13e9db
URL:https://umbraco.naeringsforeningen.no/moeter/arkiv/treffpunkt-dalane-sommerfest/
ORGANIZER;CN=Ola Normann:MAILTO:ola.normann@markedspartner.no
DTSTAMP:20200827T170000Z
DTSTART:20200827T170000Z
DTEND:20200827T210000Z
LAST-MODIFIED:20221031T113804Z
SUMMARY:Treffpunkt Dalane: Sommerfest 
DESCRIPTION:Kom og bli med på gatefest utenfor Eigra på Grand. Vi stenger av området for anledningen og holder årets sommerfest i ny drakt. Gatefest!
X-ALT-DESC:Kom og bli med p&#229; gatefest utenfor Eigra p&#229; Grand. Vi stenger av omr&#229;det for anledningen og holder &#229;rets sommerfest i ny drakt. Gatefest!
LOCATION:Gateomr&#229;det utenfor EIGRA, GRAND HOTELL
END:VEVENT


END:VCALENDAR



