
BEGIN:VCALENDAR
VERSION:2.0
PRODID:-//MarkedsPartner AS//Umbraco CMS//NO
TIMEZONE-ID:Europe/Oslo
X-WR-TIMEZONE:Europe/Oslo


BEGIN:VEVENT
UID:87ebf80b642d4e3b921ada93a6dcaf35
URL:https://umbraco.naeringsforeningen.no/moeter/arkiv/treffpunkt-dalane-prosjektmidler_25042023/
ORGANIZER;CN=Ola Normann:MAILTO:ola.normann@markedspartner.no
DTSTAMP:20230425T063000Z
DTSTART:20230425T063000Z
DTEND:20230425T080000Z
LAST-MODIFIED:20230426T071713Z
SUMMARY:Frokostmøte: Hvordan søke prosjektmidler
DESCRIPTION:Har dere gode ideer til prosjekter som kan skape vekst og verdiskaping i din bedrift? Det finnes midler i Rogaland fylkeskommune, Enova og Innovasjon Norge som er rettet mot denne aktiviteten.
X-ALT-DESC:Har dere gode ideer til prosjekter som kan skape vekst og verdiskaping i din bedrift? Det finnes midler i Rogaland fylkeskommune, Enova og Innovasjon Norge som er rettet mot denne aktiviteten.
LOCATION:Grand Hotell Egersund
END:VEVENT


END:VCALENDAR



