
BEGIN:VCALENDAR
VERSION:2.0
PRODID:-//MarkedsPartner AS//Umbraco CMS//NO
TIMEZONE-ID:Europe/Oslo
X-WR-TIMEZONE:Europe/Oslo


BEGIN:VEVENT
UID:1e2c89fed2734eb0871f7af785c86f2e
URL:https://umbraco.naeringsforeningen.no/moeter/arkiv/treffpunkt-dalane-paneldebatt-med-ordfoererne-i-dalane/
ORGANIZER;CN=Ola Normann:MAILTO:ola.normann@markedspartner.no
DTSTAMP:20211028T070000Z
DTSTART:20211028T070000Z
DTEND:20211028T090000Z
LAST-MODIFIED:20221031T122747Z
SUMMARY:Treffpunkt Dalane: Paneldebatt med ordførerne i Dalane
DESCRIPTION:Dette blir 3. år på rad for paneldebatt med ordførerne i Dalane. Finnes det en rød tråd? Skjer det endringer i muligheter og samarbeid?
X-ALT-DESC:Dette blir 3. &#229;r p&#229; rad for paneldebatt med ordf&#248;rerne i Dalane. Finnes det en r&#248;d tr&#229;d? Skjer det endringer i muligheter og samarbeid?
LOCATION:Grand Hotell Egersund
END:VEVENT


END:VCALENDAR



