
BEGIN:VCALENDAR
VERSION:2.0
PRODID:-//MarkedsPartner AS//Umbraco CMS//NO
TIMEZONE-ID:Europe/Oslo
X-WR-TIMEZONE:Europe/Oslo


BEGIN:VEVENT
UID:36858a01a4a849faafab4b25863d5541
URL:https://umbraco.naeringsforeningen.no/moeter/arkiv/treffpunkt-dalane-norge-mineraler-presenterer-planer_210324/
ORGANIZER;CN=Ola Normann:MAILTO:ola.normann@markedspartner.no
DTSTAMP:20240321T063000Z
DTSTART:20240321T063000Z
DTEND:20240321T090000Z
LAST-MODIFIED:20240321T181552Z
SUMMARY:Treffpunkt Dalane: Presentasjon av planene for mineralutvinning
DESCRIPTION:Norge Mineraler presenterer sine planer for mineralutvinning og videreforedling. Kan selskapet bli en ny hjørnesteinsbedrift i Dalane?
X-ALT-DESC:Norge Mineraler presenterer sine planer for mineralutvinning og videreforedling. Kan selskapet bli en ny hj&#248;rnesteinsbedrift i Dalane?
LOCATION:Grand Hotell Egersund
END:VEVENT


END:VCALENDAR



