
BEGIN:VCALENDAR
VERSION:2.0
PRODID:-//MarkedsPartner AS//Umbraco CMS//NO
TIMEZONE-ID:Europe/Oslo
X-WR-TIMEZONE:Europe/Oslo


BEGIN:VEVENT
UID:f2ea6bbc062a4b298958c37795ba1885
URL:https://umbraco.naeringsforeningen.no/moeter/arkiv/treffpunkt-dalane-klimaregnskap_090523/
ORGANIZER;CN=Ola Normann:MAILTO:ola.normann@markedspartner.no
DTSTAMP:20230509T060000Z
DTSTART:20230509T060000Z
DTEND:20230509T080000Z
LAST-MODIFIED:20230510T021249Z
SUMMARY:Klimaregnskap – slik kommer du i gang
DESCRIPTION:En god oversikt over ditt selskaps klimaavtrykk er et av de første stegene mot en god klimarapportering. Vi inviterer til et frokostseminar som tar for seg hvordan et klimaregnskap ser ut, og hvordan en kommer i gang med måling av klimagassutslipp.
X-ALT-DESC:En god oversikt over ditt selskaps klimaavtrykk er et av de f&#248;rste stegene mot en god klimarapportering. Vi inviterer til et frokostseminar som tar for seg hvordan et klimaregnskap ser ut, og hvordan en kommer i gang med m&#229;ling av klimagassutslipp.
LOCATION:Grand Hotell, Egersund
END:VEVENT


END:VCALENDAR



