
BEGIN:VCALENDAR
VERSION:2.0
PRODID:-//MarkedsPartner AS//Umbraco CMS//NO
TIMEZONE-ID:Europe/Oslo
X-WR-TIMEZONE:Europe/Oslo


BEGIN:VEVENT
UID:b3f8abdf3f884f7ea0f6e8869d6c1523
URL:https://umbraco.naeringsforeningen.no/moeter/arkiv/treffpunkt-dalane-kick-off-u37/
ORGANIZER;CN=Ola Normann:MAILTO:ola.normann@markedspartner.no
DTSTAMP:20200213T180000Z
DTSTART:20200213T180000Z
DTEND:20200213T210000Z
LAST-MODIFIED:20221031T115627Z
SUMMARY:Treffpunkt Dalane: U37
DESCRIPTION:Er du under 37 år og arbeider i Dalane? Da vil vi gjerne ha deg med på laget. Du får møte Norges yngste ordfører.
X-ALT-DESC:Er du under 37 &#229;r og arbeider i Dalane? Da vil vi gjerne ha deg med p&#229; laget. Du f&#229;r m&#248;te Norges yngste ordf&#248;rer.
LOCATION:Grand Kjelleren
END:VEVENT


END:VCALENDAR



