
BEGIN:VCALENDAR
VERSION:2.0
PRODID:-//MarkedsPartner AS//Umbraco CMS//NO
TIMEZONE-ID:Europe/Oslo
X-WR-TIMEZONE:Europe/Oslo


BEGIN:VEVENT
UID:f37accfdc7cc4ebfad2697522991f2d9
URL:https://umbraco.naeringsforeningen.no/moeter/arkiv/treffpunkt-dalane-hva-vil-vi-i-dalane-og-hva-trenger-vi_130525/
ORGANIZER;CN=Ola Normann:MAILTO:ola.normann@markedspartner.no
DTSTAMP:20250513T160000Z
DTSTART:20250513T160000Z
DTEND:20250513T190000Z
LAST-MODIFIED:20250514T083806Z
SUMMARY:Hva vil vi i Dalane og hva trenger vi?
DESCRIPTION:Vi har flere muligheter og prosjekter i Dalane-regionen. Hva gjør vi for å få realisert disse, og hva trenger vi for å komme i gang og lykkes?
X-ALT-DESC:Vi har flere muligheter og prosjekter i Dalane-regionen. Hva gj&#248;r vi for &#229; f&#229; realisert disse, og hva trenger vi for &#229; komme i gang og lykkes?
LOCATION:Grand Hotell Egersund
END:VEVENT


END:VCALENDAR



