
BEGIN:VCALENDAR
VERSION:2.0
PRODID:-//MarkedsPartner AS//Umbraco CMS//NO
TIMEZONE-ID:Europe/Oslo
X-WR-TIMEZONE:Europe/Oslo


BEGIN:VEVENT
UID:01e553d94a8f43f7be0cd9f599295059
URL:https://umbraco.naeringsforeningen.no/moeter/arkiv/treffpunkt-dalane-foerjulstreff-paa-eigra-2/
ORGANIZER;CN=Ola Normann:MAILTO:ola.normann@markedspartner.no
DTSTAMP:20201216T180000Z
DTSTART:20201216T180000Z
DTEND:20201216T210000Z
LAST-MODIFIED:20221031T115752Z
SUMMARY:Treffpunkt Dalane Førjulstreff på Eigra
DESCRIPTION:Mer info følger
X-ALT-DESC:Mer info f&#248;lger
LOCATION:Grand Hotell Eigra
END:VEVENT


END:VCALENDAR



