
BEGIN:VCALENDAR
VERSION:2.0
PRODID:-//MarkedsPartner AS//Umbraco CMS//NO
TIMEZONE-ID:Europe/Oslo
X-WR-TIMEZONE:Europe/Oslo


BEGIN:VEVENT
UID:ea51a7715ed6425dad5dbc5544fadc62
URL:https://umbraco.naeringsforeningen.no/moeter/arkiv/treffpunkt-dalane-foerjulstreff-paa-eigra-1/
ORGANIZER;CN=Ola Normann:MAILTO:ola.normann@markedspartner.no
DTSTAMP:20191219T180000Z
DTSTART:20191219T180000Z
DTEND:20191219T220000Z
LAST-MODIFIED:20221031T115746Z
SUMMARY:Treffpunkt Dalane: Førjulstreff
DESCRIPTION:Velkommen til Treffpunkt Dalane. Vi senker skuldrene med koselig førjulstreff med konsert, juleinspirert mat og drikke på Eigra Kjøkken & Bar. Artist Inger Lise Hope synger julen inn. Jan Ertesvåg, administrerende direktør i Aker Solutions og Ivar Rusdal, styreformann i Nordic Edge AS, kommer. Kommer du?
X-ALT-DESC:Velkommen til Treffpunkt Dalane. Vi senker skuldrene med koselig f&#248;rjulstreff med konsert, juleinspirert mat og drikke p&#229; Eigra Kj&#248;kken &amp; Bar. Artist Inger Lise Hope synger julen inn. Jan Ertesv&#229;g, administrerende direkt&#248;r i Aker Solutions og Ivar Rusdal, styreformann i Nordic Edge AS, kommer. Kommer du?
LOCATION:Eigra kj&#248;kken og Bar Grand Hotell Egersund
END:VEVENT


END:VCALENDAR



