
BEGIN:VCALENDAR
VERSION:2.0
PRODID:-//MarkedsPartner AS//Umbraco CMS//NO
TIMEZONE-ID:Europe/Oslo
X-WR-TIMEZONE:Europe/Oslo


BEGIN:VEVENT
UID:c2f2e7db7e7248d5a7c67689556ba750
URL:https://umbraco.naeringsforeningen.no/moeter/arkiv/treffpunkt-dalane-de-fire-dalane-ordfoererne-i-paneldebatt-om-muligheter-og-utfordringer/
ORGANIZER;CN=Ola Normann:MAILTO:ola.normann@markedspartner.no
DTSTAMP:20201015T060000Z
DTSTART:20201015T060000Z
DTEND:20201015T080000Z
LAST-MODIFIED:20221031T114103Z
SUMMARY:Treffpunkt Dalane: Hva nå?  
DESCRIPTION:De fire Dalane-ordførerne i paneldebatt om muligheter og utfordringer.
X-ALT-DESC:De fire Dalane-ordf&#248;rerne i paneldebatt om muligheter og utfordringer.
LOCATION:Grand Hotell Egersund
END:VEVENT


END:VCALENDAR



