
BEGIN:VCALENDAR
VERSION:2.0
PRODID:-//MarkedsPartner AS//Umbraco CMS//NO
TIMEZONE-ID:Europe/Oslo
X-WR-TIMEZONE:Europe/Oslo


BEGIN:VEVENT
UID:b3041e861df84a798f3d5c6d7906f58a
URL:https://umbraco.naeringsforeningen.no/moeter/arkiv/treffpunkt-dalane-dalaneboersen/
ORGANIZER;CN=Ola Normann:MAILTO:ola.normann@markedspartner.no
DTSTAMP:20240912T160000Z
DTSTART:20240912T160000Z
DTEND:20240912T180000Z
LAST-MODIFIED:20240913T112642Z
SUMMARY:Dalanebørsen 2024
DESCRIPTION:Hva skjer av byggeprosjekter, infrastruktur og samferdsel i de fire Dalane-kommunene framover?
X-ALT-DESC:Hva skjer av byggeprosjekter, infrastruktur og samferdsel i de fire Dalane-kommunene framover?
LOCATION:Grand Hotell Egersund
END:VEVENT


END:VCALENDAR



