
BEGIN:VCALENDAR
VERSION:2.0
PRODID:-//MarkedsPartner AS//Umbraco CMS//NO
TIMEZONE-ID:Europe/Oslo
X-WR-TIMEZONE:Europe/Oslo


BEGIN:VEVENT
UID:b41ed96f06e3444ea60bf8facc0eda91
URL:https://umbraco.naeringsforeningen.no/moeter/arkiv/treffpunkt-dalane-dalaneboersen-2019/
ORGANIZER;CN=Ola Normann:MAILTO:ola.normann@markedspartner.no
DTSTAMP:20190926T153000Z
DTSTART:20190926T153000Z
DTEND:20190926T183000Z
LAST-MODIFIED:20221031T113455Z
SUMMARY:Treffpunkt Dalane: Dalanebørsen 2019
DESCRIPTION:Dalanebørsen har blitt en tradisjon i Dalane. Her får du høre om de store kommende byggeprosjektene til Eigersund kommune, Eigersund Næring og Havn, Langholmen Egersund AS, Jøssingfjord Vitenmuseum, Statens vegvesen og KNA Raceway.
X-ALT-DESC:Dalaneb&#248;rsen har blitt en tradisjon i Dalane. Her f&#229;r du h&#248;re om de store kommende byggeprosjektene til Eigersund kommune, Eigersund N&#230;ring og Havn, Langholmen Egersund AS, J&#248;ssingfjord Vitenmuseum, Statens vegvesen og KNA Raceway.
LOCATION:Grand Hotell, Egersund
END:VEVENT


END:VCALENDAR



