
BEGIN:VCALENDAR
VERSION:2.0
PRODID:-//MarkedsPartner AS//Umbraco CMS//NO
TIMEZONE-ID:Europe/Oslo
X-WR-TIMEZONE:Europe/Oslo


BEGIN:VEVENT
UID:29945608a1d34a62b004083b98b239c5
URL:https://umbraco.naeringsforeningen.no/moeter/arkiv/treffpunkt-dalane-attraktivitet_070324/
ORGANIZER;CN=Ola Normann:MAILTO:ola.normann@markedspartner.no
DTSTAMP:20240307T173000Z
DTSTART:20240307T173000Z
DTEND:20240307T200000Z
LAST-MODIFIED:20240308T143740Z
SUMMARY:Treffpunkt Dalane: Attraktivitet - hvordan tiltrekke oss folk
DESCRIPTION:Vi arrangerer paneldebatt med representanter fra næringsliv og reiseliv om attraktivitet og spørsmål om hvordan vi tiltrekker oss folk til regionen.
X-ALT-DESC:Vi arrangerer paneldebatt med representanter fra n&#230;ringsliv og reiseliv om attraktivitet og sp&#248;rsm&#229;l om hvordan vi tiltrekker oss folk til regionen.
LOCATION:Sogndalstrand Kulturhotell
END:VEVENT


END:VCALENDAR



