
BEGIN:VCALENDAR
VERSION:2.0
PRODID:-//MarkedsPartner AS//Umbraco CMS//NO
TIMEZONE-ID:Europe/Oslo
X-WR-TIMEZONE:Europe/Oslo


BEGIN:VEVENT
UID:ebae42a7acac4a568026fa792f2f0833
URL:https://umbraco.naeringsforeningen.no/moeter/arkiv/trainee-soervest-novembersamling/
ORGANIZER;CN=Ola Normann:MAILTO:ola.normann@markedspartner.no
DTSTAMP:20221103T080000Z
DTSTART:20221103T080000Z
DTEND:20221103T110000Z
LAST-MODIFIED:20221103T182658Z
SUMMARY:Trainee SørVest – Novembersamling
DESCRIPTION:Trainee SørVest er et tverrfaglig, regionalt traineeprogram, og er et samarbeid mellom Næringsforeningen og UiS. Målsettingen er å beholde og tiltrekke de beste kandidatene for å sikre riktig kompetanse til regionenes næringsliv.
X-ALT-DESC:Trainee&#160;S&#248;rVest&#160;er et tverrfaglig, regionalt&#160;traineeprogram, og er et samarbeid mellom N&#230;ringsforeningen og UiS. M&#229;lsettingen er &#229; beholde og tiltrekke de beste kandidatene for &#229; sikre riktig kompetanse til regionenes n&#230;ringsliv.
LOCATION:Rosenkildehuset
END:VEVENT


END:VCALENDAR



