
BEGIN:VCALENDAR
VERSION:2.0
PRODID:-//MarkedsPartner AS//Umbraco CMS//NO
TIMEZONE-ID:Europe/Oslo
X-WR-TIMEZONE:Europe/Oslo


BEGIN:VEVENT
UID:ce01bd6b11244df9aa0045a831f22429
URL:https://umbraco.naeringsforeningen.no/moeter/arkiv/trainee-soervest-desembersamling/
ORGANIZER;CN=Ola Normann:MAILTO:ola.normann@markedspartner.no
DTSTAMP:20221201T080000Z
DTSTART:20221201T080000Z
DTEND:20221201T110000Z
LAST-MODIFIED:20221205T074956Z
SUMMARY:Trainee SørVest
DESCRIPTION:Trainee SørVest er et tverrfaglig, regionalt traineeprogram, og er et samarbeid mellom Næringsforeningen og UiS. Målsettingen er å beholde og tiltrekke de beste kandidatene for å sikre riktig kompetanse til regionenes næringsliv.
X-ALT-DESC:Trainee&#160;S&#248;rVest&#160;er et tverrfaglig, regionalt&#160;traineeprogram, og er et samarbeid mellom N&#230;ringsforeningen og UiS. M&#229;lsettingen er &#229; beholde og tiltrekke de beste kandidatene for &#229; sikre riktig kompetanse til regionenes n&#230;ringsliv.
LOCATION:Rosenkildehuset
END:VEVENT


END:VCALENDAR



