
BEGIN:VCALENDAR
VERSION:2.0
PRODID:-//MarkedsPartner AS//Umbraco CMS//NO
TIMEZONE-ID:Europe/Oslo
X-WR-TIMEZONE:Europe/Oslo


BEGIN:VEVENT
UID:55aa2902bb554943b0683fec92e6a98e
URL:https://umbraco.naeringsforeningen.no/moeter/arkiv/trainee-event_190220/
ORGANIZER;CN=Ola Normann:MAILTO:ola.normann@markedspartner.no
DTSTAMP:20200219T113000Z
DTSTART:20200219T113000Z
DTEND:20200219T140000Z
LAST-MODIFIED:20221031T115650Z
SUMMARY:Introduksjonsmøte for Trainee-bedrifter
DESCRIPTION:Målet er at bedriftene skal sitte igjen med inspirasjon og konkrete eksempler på hvordan traninee programmet og kandidatene skal implementeres i bedriften.
X-ALT-DESC:M&#229;let er at bedriftene skal sitte igjen med inspirasjon og konkrete eksempler p&#229; hvordan traninee programmet og kandidatene skal implementeres i bedriften.
LOCATION:Rosenkildehuset
END:VEVENT


END:VCALENDAR



