
BEGIN:VCALENDAR
VERSION:2.0
PRODID:-//MarkedsPartner AS//Umbraco CMS//NO
TIMEZONE-ID:Europe/Oslo
X-WR-TIMEZONE:Europe/Oslo


BEGIN:VEVENT
UID:f7f91d3f7302460fafa7d81d5a87bc2d
URL:https://umbraco.naeringsforeningen.no/moeter/arkiv/teknologinytt-landbruk_okt21/
ORGANIZER;CN=Ola Normann:MAILTO:ola.normann@markedspartner.no
DTSTAMP:20210930T080000Z
DTSTART:20210930T080000Z
DTEND:20210930T110000Z
LAST-MODIFIED:20221031T122451Z
SUMMARY:Landbruk og teknologi: Få siste nytt i utviklingen
DESCRIPTION:Få siste nytt innen landbruk og teknologi. Utviklingen går raskt, så hva er trendene nå og fremover? Det er en rivende teknologiutvikling i landbruksnæringen, og mulighetene for læring, samhandling og innovasjon er mange.
X-ALT-DESC:F&#229; siste nytt innen landbruk og teknologi. Utviklingen g&#229;r raskt, s&#229; hva er trendene n&#229; og fremover? Det er en rivende teknologiutvikling i landbruksn&#230;ringen, og mulighetene for l&#230;ring, samhandling og innovasjon er mange.
LOCATION:Quality Hotel Residence, Sandnes. 
END:VEVENT


END:VCALENDAR



