
BEGIN:VCALENDAR
VERSION:2.0
PRODID:-//MarkedsPartner AS//Umbraco CMS//NO
TIMEZONE-ID:Europe/Oslo
X-WR-TIMEZONE:Europe/Oslo


BEGIN:VEVENT
UID:de8e3b6e4b4b404eadcff824237f7142
URL:https://umbraco.naeringsforeningen.no/moeter/arkiv/taksonomi_120321/
ORGANIZER;CN=Ola Normann:MAILTO:ola.normann@markedspartner.no
DTSTAMP:20210312T100000Z
DTSTART:20210312T100000Z
DTEND:20210312T113000Z
LAST-MODIFIED:20221031T120805Z
SUMMARY:EUs taksonomi – hva du trenger å vite og mulige implikasjoner
DESCRIPTION:DIGITALKONFERANSE: Taksonomi er et begrep på vei inn i dagligtalen. Taksonomi er EUs nye regelverk for bærekraftig finans. I dette møtet vil du høre om hva klassifiseringsverktøyet betyr i praksis og mulige implikasjoner.
X-ALT-DESC:DIGITALKONFERANSE: Taksonomi er et begrep p&#229; vei inn i dagligtalen. Taksonomi er EUs nye regelverk for b&#230;rekraftig finans. I dette m&#248;tet vil du h&#248;re om hva klassifiseringsverkt&#248;yet betyr i praksis og mulige implikasjoner.
LOCATION:Digitalkonferanse
END:VEVENT


END:VCALENDAR



