
BEGIN:VCALENDAR
VERSION:2.0
PRODID:-//MarkedsPartner AS//Umbraco CMS//NO
TIMEZONE-ID:Europe/Oslo
X-WR-TIMEZONE:Europe/Oslo


BEGIN:VEVENT
UID:74ea77d924ee4857ad8bb8a37a1718f4
URL:https://umbraco.naeringsforeningen.no/moeter/arkiv/tabbekonferansen_6324/
ORGANIZER;CN=Ola Normann:MAILTO:ola.normann@markedspartner.no
DTSTAMP:20240306T110000Z
DTSTART:20240306T110000Z
DTEND:20240306T170000Z
LAST-MODIFIED:20240307T075315Z
SUMMARY:Tabbekonferansen
DESCRIPTION:En rekke jobber innebærer en betydelig risiko for å feile. Lykkes man, er oppsiden høy. Derfor må det være trygt å feile. Imidlertid er det ikke nødvendig å gjøre samme tabbe to ganger. Hvordan tabber håndteres og hvordan man lærer av dem er viktig. Nettopp dette skal vi snakke om på Tabbekonferansen.
X-ALT-DESC:En rekke jobber inneb&#230;rer en betydelig risiko for &#229; feile. Lykkes man, er oppsiden h&#248;y. Derfor m&#229; det v&#230;re trygt &#229; feile. Imidlertid er det ikke n&#248;dvendig &#229; gj&#248;re samme tabbe to ganger. Hvordan tabber h&#229;ndteres og hvordan man l&#230;rer av dem er viktig. Nettopp dette skal vi snakke om p&#229; Tabbekonferansen.
LOCATION:Clarion Hotel Energy
END:VEVENT


END:VCALENDAR



