
BEGIN:VCALENDAR
VERSION:2.0
PRODID:-//MarkedsPartner AS//Umbraco CMS//NO
TIMEZONE-ID:Europe/Oslo
X-WR-TIMEZONE:Europe/Oslo


BEGIN:VEVENT
UID:a1022aa5f55142a2b1cb3c6496d9753f
URL:https://umbraco.naeringsforeningen.no/moeter/arkiv/tabbekonferansen-2025/
ORGANIZER;CN=Ola Normann:MAILTO:ola.normann@markedspartner.no
DTSTAMP:20250327T103000Z
DTSTART:20250327T103000Z
DTEND:20250327T180000Z
LAST-MODIFIED:20250328T080459Z
SUMMARY:TABBEKONFERANSEN 2025
DESCRIPTION:Arrangementet er fulltegnet! 

På Tabbekonferansen 2025 møter du konferansier Truls Svendsen og en rekke profilerte ledere fra både næringsliv, politikk, kulturliv og idrett som byr på seg selv. Ingen er feilfrie! Det er de som går foran og baner vei som også begår tabber. De er best fordi de lærer av sine feil. Nå deler de sine erfaringer.
X-ALT-DESC:Arrangementet er fulltegnet! 

P&#229; Tabbekonferansen 2025 m&#248;ter du konferansier Truls Svendsen og en rekke profilerte ledere fra b&#229;de n&#230;ringsliv, politikk, kulturliv og idrett som byr p&#229; seg selv. Ingen er feilfrie! Det er de som g&#229;r foran og baner vei som ogs&#229; beg&#229;r tabber. De er best fordi de l&#230;rer av sine feil. N&#229; deler de sine erfaringer.
LOCATION:Clarion Hotel Energy
END:VEVENT


END:VCALENDAR



