
BEGIN:VCALENDAR
VERSION:2.0
PRODID:-//MarkedsPartner AS//Umbraco CMS//NO
TIMEZONE-ID:Europe/Oslo
X-WR-TIMEZONE:Europe/Oslo


BEGIN:VEVENT
UID:9efc2b6102324c5a9ee57105632831e8
URL:https://umbraco.naeringsforeningen.no/moeter/arkiv/styreskolen_vaar_2022-1/
ORGANIZER;CN=Ola Normann:MAILTO:ola.normann@markedspartner.no
DTSTAMP:20220420T063000Z
DTSTART:20220420T063000Z
DTEND:20220420T093000Z
LAST-MODIFIED:20221031T122224Z
SUMMARY:Styreskolen 2022: Regnskap og økonomistyring 
DESCRIPTION:Hva er styrets rolle og ansvar i forhold til regnskap og strategisk økonomistyring. Er regnskap kun et obligatorisk onde, eller kan det legge fundamentet for styringsrelevant informasjon?
X-ALT-DESC:Hva er styrets rolle og ansvar i forhold til regnskap og strategisk &#248;konomistyring. Er regnskap kun et obligatorisk onde, eller kan det legge fundamentet for styringsrelevant informasjon?
LOCATION:Rosenkildehuset
END:VEVENT


END:VCALENDAR



