
BEGIN:VCALENDAR
VERSION:2.0
PRODID:-//MarkedsPartner AS//Umbraco CMS//NO
TIMEZONE-ID:Europe/Oslo
X-WR-TIMEZONE:Europe/Oslo


BEGIN:VEVENT
UID:4d092edb83b94010acea76d6b35437a3
URL:https://umbraco.naeringsforeningen.no/moeter/arkiv/styreskolen_3_2024/
ORGANIZER;CN=Ola Normann:MAILTO:ola.normann@markedspartner.no
DTSTAMP:20241203T073000Z
DTSTART:20241203T073000Z
DTEND:20241203T103000Z
LAST-MODIFIED:20241203T120853Z
SUMMARY:Boost din ledelse med AI 
DESCRIPTION:AI kan hjelpe deg som leder å øke effektiviteten i din organisasjon. Ifølge professor i strategi Robert Kreuzbauer er dette en gamechanger som ofte blir oversett. Nå forteller han oss hvordan AI kan endre framtidens ledelse.
X-ALT-DESC:AI kan hjelpe deg som leder &#229; &#248;ke effektiviteten i din organisasjon. If&#248;lge professor i strategi Robert Kreuzbauer er dette en gamechanger som ofte blir oversett. N&#229; forteller han oss hvordan AI kan endre framtidens ledelse.
LOCATION:Rosenkildehuset
END:VEVENT


END:VCALENDAR



