
BEGIN:VCALENDAR
VERSION:2.0
PRODID:-//MarkedsPartner AS//Umbraco CMS//NO
TIMEZONE-ID:Europe/Oslo
X-WR-TIMEZONE:Europe/Oslo


BEGIN:VEVENT
UID:3a2ceb4b03654b3190af455326e915dc
URL:https://umbraco.naeringsforeningen.no/moeter/arkiv/styreskolen_1_2024/
ORGANIZER;CN=Ola Normann:MAILTO:ola.normann@markedspartner.no
DTSTAMP:20240425T063000Z
DTSTART:20240425T063000Z
DTEND:20240425T093000Z
LAST-MODIFIED:20240425T121737Z
SUMMARY:Styreskolen 2024: Ledelse i en digital økonomi
DESCRIPTION:Enterprise IT Governance, eller på norsk styrets styring av IT, er en formidabel oppgave for ledere. Førsteamanuensis Bjarte Ravndal har lang erfaring innen IT-styring, og vil dele innsikt og beste praksis som kan hjelpe deg med å maksimere nytten av IT-investeringer og samtidig håndtere risikoer på en effektiv måte.
X-ALT-DESC:Enterprise IT Governance, eller p&#229; norsk styrets styring av IT, er en formidabel oppgave for ledere. F&#248;rsteamanuensis Bjarte Ravndal har lang erfaring innen IT-styring, og vil dele innsikt og beste praksis som kan hjelpe deg med &#229; maksimere nytten av IT-investeringer og samtidig h&#229;ndtere risikoer p&#229; en effektiv m&#229;te.
LOCATION:Rosenkildehuset
END:VEVENT


END:VCALENDAR



